BEGIN:VCALENDAR
VERSION:2.0
PRODID:-//D.C. Science Writers Association - ECPv6.15.15//NONSGML v1.0//EN
CALSCALE:GREGORIAN
METHOD:PUBLISH
X-WR-CALNAME:D.C. Science Writers Association
X-ORIGINAL-URL:https://dcswa.org
X-WR-CALDESC:Events for D.C. Science Writers Association
REFRESH-INTERVAL;VALUE=DURATION:PT1H
X-Robots-Tag:noindex
X-PUBLISHED-TTL:PT1H
BEGIN:VTIMEZONE
TZID:America/New_York
BEGIN:DAYLIGHT
TZOFFSETFROM:-0500
TZOFFSETTO:-0400
TZNAME:EDT
DTSTART:20240310T070000
END:DAYLIGHT
BEGIN:STANDARD
TZOFFSETFROM:-0400
TZOFFSETTO:-0500
TZNAME:EST
DTSTART:20241103T060000
END:STANDARD
BEGIN:DAYLIGHT
TZOFFSETFROM:-0500
TZOFFSETTO:-0400
TZNAME:EDT
DTSTART:20250309T070000
END:DAYLIGHT
BEGIN:STANDARD
TZOFFSETFROM:-0400
TZOFFSETTO:-0500
TZNAME:EST
DTSTART:20251102T060000
END:STANDARD
BEGIN:DAYLIGHT
TZOFFSETFROM:-0500
TZOFFSETTO:-0400
TZNAME:EDT
DTSTART:20260308T070000
END:DAYLIGHT
BEGIN:STANDARD
TZOFFSETFROM:-0400
TZOFFSETTO:-0500
TZNAME:EST
DTSTART:20261101T060000
END:STANDARD
END:VTIMEZONE
BEGIN:VEVENT
DTSTART;TZID=America/New_York:20250925T180000
DTEND;TZID=America/New_York:20250925T200000
DTSTAMP:20260424T132246
CREATED:20250918T001350Z
LAST-MODIFIED:20250918T001350Z
UID:5188-1758823200-1758830400@dcswa.org
SUMMARY:Joint Happy Hour with JHU Science Writing Program
DESCRIPTION:Join us for a joint happy hour with Johns Hopkins University’s Science Writing Program on Thursday\, September 25 at Crooked Run Fermentation from 6:00-8:00 PM. Meet new science writers and enjoy the venue’s menu\, which includes ciders\, seltzers\, natural wines\, NY style pizza and wings. Closest metro station is NoMa-Gallaudet U New York Ave in the red line. \nAddress: 550 Morse St NE Suite #120\, Washington\, DC 20002 \nTime: 6:00-8:00 PM
URL:https://dcswa.org/event/joint-happy-hour-with-jhu-science-writing-program/
CATEGORIES:Happy Hour
END:VEVENT
BEGIN:VEVENT
DTSTART;TZID=America/New_York:20250731T180000
DTEND;TZID=America/New_York:20250731T200000
DTSTAMP:20260424T132246
CREATED:20250714T234322Z
LAST-MODIFIED:20250714T234520Z
UID:5133-1753984800-1753992000@dcswa.org
SUMMARY:Social Event: Ice Cream
DESCRIPTION:Free ice cream for the first 25 people who show up! If the weather is nice\, we’ll sit by the waterfront and mingle.  \nLocation: Ice Cream Jubilee at Navy Yard \nDate/Time: Thursday\, July 31\, 6:00pm to 8:00pm
URL:https://dcswa.org/event/social-event-ice-cream/
LOCATION:Ice Cream Jubilee Navy Yard\, 301 Water St SE # 105\, Washington\, DC\, 20003\, United States
CATEGORIES:Happy Hour,Party
END:VEVENT
END:VCALENDAR