BEGIN:VCALENDAR
VERSION:2.0
PRODID:-//D.C. Science Writers Association - ECPv6.15.15//NONSGML v1.0//EN
CALSCALE:GREGORIAN
METHOD:PUBLISH
X-WR-CALNAME:D.C. Science Writers Association
X-ORIGINAL-URL:https://dcswa.org
X-WR-CALDESC:Events for D.C. Science Writers Association
REFRESH-INTERVAL;VALUE=DURATION:PT1H
X-Robots-Tag:noindex
X-PUBLISHED-TTL:PT1H
BEGIN:VTIMEZONE
TZID:America/New_York
BEGIN:DAYLIGHT
TZOFFSETFROM:-0500
TZOFFSETTO:-0400
TZNAME:EDT
DTSTART:20240310T070000
END:DAYLIGHT
BEGIN:STANDARD
TZOFFSETFROM:-0400
TZOFFSETTO:-0500
TZNAME:EST
DTSTART:20241103T060000
END:STANDARD
BEGIN:DAYLIGHT
TZOFFSETFROM:-0500
TZOFFSETTO:-0400
TZNAME:EDT
DTSTART:20250309T070000
END:DAYLIGHT
BEGIN:STANDARD
TZOFFSETFROM:-0400
TZOFFSETTO:-0500
TZNAME:EST
DTSTART:20251102T060000
END:STANDARD
BEGIN:DAYLIGHT
TZOFFSETFROM:-0500
TZOFFSETTO:-0400
TZNAME:EDT
DTSTART:20260308T070000
END:DAYLIGHT
BEGIN:STANDARD
TZOFFSETFROM:-0400
TZOFFSETTO:-0500
TZNAME:EST
DTSTART:20261101T060000
END:STANDARD
END:VTIMEZONE
BEGIN:VEVENT
DTSTART;TZID=America/New_York:20250828T190000
DTEND;TZID=America/New_York:20250828T200000
DTSTAMP:20260425T072505
CREATED:20250818T145345Z
LAST-MODIFIED:20250822T014343Z
UID:5167-1756407600-1756411200@dcswa.org
SUMMARY:Create Your Unicorn Career in SciComm - Even in a Crisis
DESCRIPTION:Even in a challenging economy\, you can find unique career possibilities and land jobs! Join us for a fireside chat and Ask Me Anything with Alaina G. Levine\, professional speaker\, science writer\, career coach to science writers\, and author of Networking for Nerds and Create Your Unicorn Career (forthcoming). Ask her anything about uncovering hidden jobs in the current climate and creating Your Unicorn Career\, the customized and authentic career that brings you joy\, meaning\, and money at a session hosted by the D.C. Science Writers Association. \nRegister: //us06web.zoom.us/webinar/register/WN_tLQDcOdnRAe372LljSgZaQ#/registration
URL:https://dcswa.org/event/create-your-unicorn-career-in-scicomm-even-in-a-crisis/
CATEGORIES:Webinar
END:VEVENT
END:VCALENDAR